BEGIN:VCALENDAR
VERSION:2.0
PRODID:-//Easton Park - ECPv6.15.20//NONSGML v1.0//EN
CALSCALE:GREGORIAN
METHOD:PUBLISH
X-ORIGINAL-URL:https://www.eastonparkatx.com
X-WR-CALDESC:Events for Easton Park
REFRESH-INTERVAL;VALUE=DURATION:PT1H
X-Robots-Tag:noindex
X-PUBLISHED-TTL:PT1H
BEGIN:VTIMEZONE
TZID:America/Chicago
BEGIN:DAYLIGHT
TZOFFSETFROM:-0600
TZOFFSETTO:-0500
TZNAME:CDT
DTSTART:20210314T080000
END:DAYLIGHT
BEGIN:STANDARD
TZOFFSETFROM:-0500
TZOFFSETTO:-0600
TZNAME:CST
DTSTART:20211107T070000
END:STANDARD
BEGIN:DAYLIGHT
TZOFFSETFROM:-0600
TZOFFSETTO:-0500
TZNAME:CDT
DTSTART:20220313T080000
END:DAYLIGHT
BEGIN:STANDARD
TZOFFSETFROM:-0500
TZOFFSETTO:-0600
TZNAME:CST
DTSTART:20221106T070000
END:STANDARD
BEGIN:DAYLIGHT
TZOFFSETFROM:-0600
TZOFFSETTO:-0500
TZNAME:CDT
DTSTART:20230312T080000
END:DAYLIGHT
BEGIN:STANDARD
TZOFFSETFROM:-0500
TZOFFSETTO:-0600
TZNAME:CST
DTSTART:20231105T070000
END:STANDARD
BEGIN:DAYLIGHT
TZOFFSETFROM:-0600
TZOFFSETTO:-0500
TZNAME:CDT
DTSTART:20240310T080000
END:DAYLIGHT
BEGIN:STANDARD
TZOFFSETFROM:-0500
TZOFFSETTO:-0600
TZNAME:CST
DTSTART:20241103T070000
END:STANDARD
END:VTIMEZONE
BEGIN:VEVENT
DTSTART;TZID=America/Chicago:20230817T170000
DTEND;TZID=America/Chicago:20230817T200000
DTSTAMP:20260422T032307
CREATED:20230724T213241Z
LAST-MODIFIED:20230724T213252Z
UID:8430-1692291600-1692302400@www.eastonparkatx.com
SUMMARY:Lobster Dogs Food Truck
DESCRIPTION:Lobster Dogs features a toasted split-top bun with a swipe of mayo and fresh chilled lobster or shrimp topped with warm butter and special seasonings. You don’t want to miss it!
URL:https://www.eastonparkatx.com/event/lobster-dogs-food-truck-2/
CATEGORIES:Public
ATTACH;FMTTYPE=image/png:https://www.eastonparkatx.com/wp-content/uploads/lobster-dogs.png
END:VEVENT
BEGIN:VEVENT
DTSTART;TZID=America/Chicago:20230804T193000
DTEND;TZID=America/Chicago:20230804T210000
DTSTAMP:20260422T032307
CREATED:20230717T154403Z
LAST-MODIFIED:20230717T154403Z
UID:8421-1691177400-1691182800@www.eastonparkatx.com
SUMMARY:Music in the Park: Ruel Thomas
DESCRIPTION:Austin native Ruel Thomas performs with an indie-adjacent style on his guitar and harmonica. It’s finally his time to shine at Music in the Park. RSVP to secure your seats.
URL:https://www.eastonparkatx.com/event/music-in-the-park-ruel-thomas-2/
CATEGORIES:Public
ATTACH;FMTTYPE=image/png:https://www.eastonparkatx.com/wp-content/uploads/ruel-thomas.png
END:VEVENT
BEGIN:VEVENT
DTSTART;TZID=America/Chicago:20230804T180000
DTEND;TZID=America/Chicago:20230804T200000
DTSTAMP:20260422T032307
CREATED:20230724T212358Z
LAST-MODIFIED:20230726T164251Z
UID:8424-1691172000-1691179200@www.eastonparkatx.com
SUMMARY:First Friday Food Truck: Heros Gyros
DESCRIPTION:Heros Gyros brings authentic Greek street food made from the best ingredients. Whether you’re looking for the best falafels or gyros\, or want to discover what a Greek take on a Philly cheesesteak is\, you need to stop by The Union on Friday for Heros Gyros.
URL:https://www.eastonparkatx.com/event/first-friday-food-truck-heros-gyros/
CATEGORIES:Public
ATTACH;FMTTYPE=image/jpeg:https://www.eastonparkatx.com/wp-content/uploads/heros-gyros.jpeg
END:VEVENT
BEGIN:VEVENT
DTSTART;TZID=America/Chicago:20230707T180000
DTEND;TZID=America/Chicago:20230707T200000
DTSTAMP:20260422T032307
CREATED:20230621T202957Z
LAST-MODIFIED:20230621T202957Z
UID:8374-1688752800-1688760000@www.eastonparkatx.com
SUMMARY:First Friday Food Truck: KnightFire BBQ
DESCRIPTION:Join us at The Union for KnightFire BBQ!\nTheir menu includes the Cowboy Burger\, brisket quesadillas\, pulled pork tacos\, queso dogs\, a beyond beef garden burger and so much more!
URL:https://www.eastonparkatx.com/event/first-friday-food-truck-knightfire-bbq/
CATEGORIES:Public
ATTACH;FMTTYPE=image/jpeg:https://www.eastonparkatx.com/wp-content/uploads/1-2-scaled.jpg
END:VEVENT
BEGIN:VEVENT
DTSTART;TZID=America/Chicago:20230701T193000
DTEND;TZID=America/Chicago:20230701T210000
DTSTAMP:20260422T032307
CREATED:20230623T212121Z
LAST-MODIFIED:20230623T212404Z
UID:8382-1688239800-1688245200@www.eastonparkatx.com
SUMMARY:Music in the Park: Mike Donello and the New Essentials
DESCRIPTION:Surprise!\nWe’re having a special SATURDAY Music in the Park!\nMike Donello and the New Essentials will perform on Saturday\, July 1 at 7:30 pm  to 9 pm in The Union Courtyard. This Music in the Park is BYOB\, so don’t forget your drinks at home!
URL:https://www.eastonparkatx.com/event/music-in-the-park-mike-donello-and-the-new-essentials/
CATEGORIES:Public
ATTACH;FMTTYPE=image/jpeg:https://www.eastonparkatx.com/wp-content/uploads/mike-donello-and-the-new-essentials.jpg
END:VEVENT
BEGIN:VEVENT
DTSTART;TZID=America/Chicago:20230621T150000
DTEND;TZID=America/Chicago:20230621T190000
DTSTAMP:20260422T032307
CREATED:20230621T203222Z
LAST-MODIFIED:20230621T203222Z
UID:8376-1687359600-1687374000@www.eastonparkatx.com
SUMMARY:Savory Farmers Market
DESCRIPTION:Don’t forget that Savory Farms will be returning every 3rd Friday of the month\, continuing with May 19! Come on out to snag some goodies and support your local vendors!
URL:https://www.eastonparkatx.com/event/savory-farmers-market-12/
CATEGORIES:Public
ATTACH;FMTTYPE=image/jpeg:https://www.eastonparkatx.com/wp-content/uploads/3-scaled.jpg
END:VEVENT
BEGIN:VEVENT
DTSTART;TZID=America/Chicago:20230616T150000
DTEND;TZID=America/Chicago:20230616T180000
DTSTAMP:20260422T032307
CREATED:20230613T205240Z
LAST-MODIFIED:20230613T205240Z
UID:8355-1686927600-1686938400@www.eastonparkatx.com
SUMMARY:Savory Farmers Market
DESCRIPTION:Join us for this month’s Farmers Market! Del Valle ISD will be here to offer community enrollment\, ATX Fire Burgers will be serving up food\, and there will be plenty of other vendors there to offer their wares. 
URL:https://www.eastonparkatx.com/event/savory-farmers-market-11/
CATEGORIES:Public
ATTACH;FMTTYPE=image/jpeg:https://www.eastonparkatx.com/wp-content/uploads/3-scaled.jpg
END:VEVENT
BEGIN:VEVENT
DTSTART;TZID=America/Chicago:20230610T100000
DTEND;TZID=America/Chicago:20230610T140000
DTSTAMP:20260422T032307
CREATED:20230523T144402Z
LAST-MODIFIED:20230523T144402Z
UID:8331-1686391200-1686405600@www.eastonparkatx.com
SUMMARY:We Are Blood Drive
DESCRIPTION:Easton Park is having a Blood Drive with our partner\, We Are Blood!\nCome lend a helping arm\, donate blood to support your community and save local lives.  Schedule your appointment today!\nFor eligibility questions\, as well as the new FDA guidance issued in April 2020\, please click here.\n*Remember! Eat a full meal before donating and bring your photo ID.
URL:https://www.eastonparkatx.com/event/we-are-blood-drive-2/
CATEGORIES:Public
ATTACH;FMTTYPE=image/jpeg:https://www.eastonparkatx.com/wp-content/uploads/WeAreBlood_Primary_Logo-high-res.jpg
END:VEVENT
BEGIN:VEVENT
DTSTART;TZID=America/Chicago:20230603T160000
DTEND;TZID=America/Chicago:20230603T180000
DTSTAMP:20260422T032307
CREATED:20230518T153854Z
LAST-MODIFIED:20230523T144109Z
UID:8327-1685808000-1685815200@www.eastonparkatx.com
SUMMARY:Easton Park Pride
DESCRIPTION:Pride Group of Easton Park and your Community Life Team are excited to host our second annual Pride!\nEaston Park Pride will include fun for the whole family\, with Queen Nadine Hughes and accompanying queens here for a drag show and storytelling\, DJ Frme2U and DJ LiuKangKickGame\, as well as an all ages pageant walk in the courtyard.\nWe’ll have face painting sponsored by CertaPro Painters\, a photo op\, and a raffle benefiting the Transgender Education Network of Texas. The Bearded Baking Company will be here to sell cookies\nSo grab a beverage from home\, don your rainbows\, and come celebrate pride month with us! RSVP here.
URL:https://www.eastonparkatx.com/event/easton-park-pride/
CATEGORIES:Public
ATTACH;FMTTYPE=image/jpeg:https://www.eastonparkatx.com/wp-content/uploads/IMG_3268-scaled.jpg
END:VEVENT
BEGIN:VEVENT
DTSTART;TZID=America/Chicago:20230602T193000
DTEND;TZID=America/Chicago:20230602T213000
DTSTAMP:20260422T032307
CREATED:20230516T153724Z
LAST-MODIFIED:20230516T153724Z
UID:8325-1685734200-1685741400@www.eastonparkatx.com
SUMMARY:Music in the Park: Rey Arteaga
DESCRIPTION:We have an incredible show planned for you\, with Rey Arteaga\, a Latin musician who performs classic Cuban and Colombian music.\nDoors open at 6 pm\, and you’ll get to practice your music talents with karaoke before the show at 7 pm. Need a little liquid courage? Bar Divas will be selling drinks too.\nReserve your tickets on Eventbrite!\n\n 
URL:https://www.eastonparkatx.com/event/music-in-the-park-rey-arteaga/
CATEGORIES:Public
ATTACH;FMTTYPE=image/png:https://www.eastonparkatx.com/wp-content/uploads/Rey-Arteaga.png
END:VEVENT
BEGIN:VEVENT
DTSTART;TZID=America/Chicago:20230602T180000
DTEND;TZID=America/Chicago:20230602T200000
DTSTAMP:20260422T032307
CREATED:20230524T203802Z
LAST-MODIFIED:20230524T203802Z
UID:8335-1685728800-1685736000@www.eastonparkatx.com
SUMMARY:First Friday Food Truck: Bunz N Chix
DESCRIPTION:Come out for burgers\, wings\, and fried oreos/twinkies! Check out their full menu here.
URL:https://www.eastonparkatx.com/event/first-friday-food-truck-bunz-n-chix/
CATEGORIES:Public
ATTACH;FMTTYPE=image/jpeg:https://www.eastonparkatx.com/wp-content/uploads/bunz-n-chix.jpeg
END:VEVENT
BEGIN:VEVENT
DTSTART;TZID=America/Chicago:20230519T150000
DTEND;TZID=America/Chicago:20230519T180000
DTSTAMP:20260422T032307
CREATED:20230430T180840Z
LAST-MODIFIED:20230309T191049Z
UID:8122-1684508400-1684519200@www.eastonparkatx.com
SUMMARY:Savory Farmers Market
DESCRIPTION:Don’t forget that Savory Farms will be returning every 3rd Friday of the month\, continuing with May 19! Come on out to snag some goodies and support your local vendors!
URL:https://www.eastonparkatx.com/event/savory-farmers-market-9/
CATEGORIES:Public
ATTACH;FMTTYPE=image/jpeg:https://www.eastonparkatx.com/wp-content/uploads/3-scaled.jpg
END:VEVENT
BEGIN:VEVENT
DTSTART;TZID=America/Chicago:20230505T193000
DTEND;TZID=America/Chicago:20230505T213000
DTSTAMP:20260422T032307
CREATED:20230425T195416Z
LAST-MODIFIED:20230504T162617Z
UID:8290-1683315000-1683322200@www.eastonparkatx.com
SUMMARY:Music in the Park: Ruel Thomas (CANCELED)
DESCRIPTION:Music in the Park is back\, with Austin native Ruel Thomas here to kick off our series. \nThomas draws inspiration from Paul Simon\, Bob Dylan\, and Paul McCartney\, but with his own indie-adjacent twist. \nDoors open at 6:30\, and during the first 30 minutes\, you’ll get to show off your own singing skills with karaoke! \nReserve your FREE tickets on Eventbrite. \n*BYOB will not be allowed at this event\, as Bar Divas will be bartending. Please be sure to bring your ID.
URL:https://www.eastonparkatx.com/event/music-in-the-park-ruel-thomas/
CATEGORIES:Public
ATTACH;FMTTYPE=image/jpeg:https://www.eastonparkatx.com/wp-content/uploads/ruel-thomas-e1679521538856.jpg
END:VEVENT
BEGIN:VEVENT
DTSTART;TZID=America/Chicago:20230505T180000
DTEND;TZID=America/Chicago:20230505T200000
DTSTAMP:20260422T032307
CREATED:20230425T200005Z
LAST-MODIFIED:20230425T200005Z
UID:8292-1683309600-1683316800@www.eastonparkatx.com
SUMMARY:First Friday Food Truck: Olaya Peruvian Food
DESCRIPTION:Come grab some authentic Peruvian food from Olaya outside The Union!
URL:https://www.eastonparkatx.com/event/first-friday-food-truck-olaya-peruvian-food/
CATEGORIES:Public
ATTACH;FMTTYPE=image/png:https://www.eastonparkatx.com/wp-content/uploads/olaya.png
END:VEVENT
BEGIN:VEVENT
DTSTART;TZID=America/Chicago:20230429T080000
DTEND;TZID=America/Chicago:20230429T120000
DTSTAMP:20260422T032307
CREATED:20230327T154515Z
LAST-MODIFIED:20230327T205725Z
UID:8145-1682755200-1682769600@www.eastonparkatx.com
SUMMARY:Easton Park Community Garage Sale
DESCRIPTION:Come out for the community garage sale April 29\, or hang out on your lawn to sell your goods to your neighbors! \nIf you are a resident and you’d like to sell your goods\, please sign up here by April 24. \nWe can’t wait to see ya and find out what you’re selling!
URL:https://www.eastonparkatx.com/event/community-garage-sale-2/
CATEGORIES:Public
ATTACH;FMTTYPE=image/jpeg:https://www.eastonparkatx.com/wp-content/uploads/2021/09/IMG_6798-scaled-1.jpg
END:VEVENT
BEGIN:VEVENT
DTSTART;TZID=America/Chicago:20230421T150000
DTEND;TZID=America/Chicago:20230421T180000
DTSTAMP:20260422T032307
CREATED:20230407T181116Z
LAST-MODIFIED:20230407T181528Z
UID:8123-1682089200-1682100000@www.eastonparkatx.com
SUMMARY:Savory Farmers Market
DESCRIPTION:Don’t forget that Savory Farms will be returning every 3rd Friday of the month\, continuing with April 21! Come on out to snag some goodies and support your local vendors!
URL:https://www.eastonparkatx.com/event/savory-farmers-market-10/
CATEGORIES:Public
ATTACH;FMTTYPE=image/jpeg:https://www.eastonparkatx.com/wp-content/uploads/3-scaled.jpg
END:VEVENT
BEGIN:VEVENT
DTSTART;TZID=America/Chicago:20230411T180000
DTEND;TZID=America/Chicago:20230411T200000
DTSTAMP:20260422T032307
CREATED:20230329T160133Z
LAST-MODIFIED:20230329T160133Z
UID:8164-1681236000-1681243200@www.eastonparkatx.com
SUMMARY:Lobster Dogs Food Truck
DESCRIPTION:Lobster Dogs will be here with their delicious seafood on Tuesday\, April 11 at 6 pm! \n 
URL:https://www.eastonparkatx.com/event/lobster-dogs-food-truck/
CATEGORIES:Public
ATTACH;FMTTYPE=image/jpeg:https://www.eastonparkatx.com/wp-content/uploads/42ab4162-18e9-44b6-a7f4-a2dc207e0488.jpeg
END:VEVENT
BEGIN:VEVENT
DTSTART;TZID=America/Chicago:20230325T100000
DTEND;TZID=America/Chicago:20230325T140000
DTSTAMP:20260422T032307
CREATED:20230312T180644Z
LAST-MODIFIED:20230320T211207Z
UID:8119-1679738400-1679752800@www.eastonparkatx.com
SUMMARY:We Are Blood Drive
DESCRIPTION:Easton Park is having a Blood Drive with our partner\, We Are Blood!\nCome lend a helping arm\, donate blood to support your community and save local lives. Schedule your appointment today! Appointments are strongly encouraged\, but walk-ins are welcome. Everyone who donates will receive a voucher for a free burger from Whataburger!\nFor eligibility questions\, as well as the new FDA guidance issued in April 2020\, please click here.\n*Remember! Eat a full meal before donating and bring your photo ID.
URL:https://www.eastonparkatx.com/event/we-are-blood-drive/
CATEGORIES:Public
ATTACH;FMTTYPE=image/jpeg:https://www.eastonparkatx.com/wp-content/uploads/WeAreBlood_Primary_Logo-high-res.jpg
END:VEVENT
BEGIN:VEVENT
DTSTART;TZID=America/Chicago:20230321T173000
DTEND;TZID=America/Chicago:20230321T183000
DTSTAMP:20260422T032307
CREATED:20230309T190352Z
LAST-MODIFIED:20230315T150555Z
UID:8117-1679419800-1679423400@www.eastonparkatx.com
SUMMARY:Down Syndrome Awareness Community Run/Walk
DESCRIPTION:Easton Park’s Running Club is hosting a one mile community run/walk for World Down Syndrome Day! It will begin at The Union at 5:30 p.m.\, and people of all paces and abilities are encouraged to attend.\nThe Running Club is also holding a fundraiser for the Down Syndrome Association of Central Texas. You can donate here. All donations are tax deductible.\nEvent sponsors include Fleet Feet and Adidas (they’ll be bringing their shoes!) and Skratch Labs to provide hydration.\nContact Adriana at prado.adry@yahoo.com with any questions.
URL:https://www.eastonparkatx.com/event/down-syndrome-awareness-community-run-walk/
CATEGORIES:Public
ATTACH;FMTTYPE=image/jpeg:https://www.eastonparkatx.com/wp-content/uploads/downsyndromeawarenessrun-e1678388608228.jpg
END:VEVENT
BEGIN:VEVENT
DTSTART;TZID=America/Chicago:20230318T110000
DTEND;TZID=America/Chicago:20230318T193000
DTSTAMP:20260422T032307
CREATED:20230309T184952Z
LAST-MODIFIED:20230313T143040Z
UID:8111-1679137200-1679167800@www.eastonparkatx.com
SUMMARY:Eastcation 2023
DESCRIPTION:Join us for Eastcation on Saturday\, March 18.\nWe have three events planned for the day\, read about them below!\nBands and Brunch\n11 a.m. to 1 p.m. at The Great Lawn Pavilion\nYou’ll get to enjoy music by Ryan Han and a delicious brunch from Waffle Love. Bring your own drink (a mimosa\, maybe?) and your family to enjoy this time with Easton Park!\nSky’s The Limit\n2 to 4 p.m. at The Great Lawn Pavilion\nYou can bring a homemade or store bought kite\, let your kids jump around in More Bounce to the House’s bounce houses\, and enjoy lunch from KinghtFire BBQ.\nLaugh Out Loud\n5:30 to 7:30 p.m. at The Costello at The Union\nEnd Eastcation right by joining us for a 21 and better comedy show! Eastonite couple Rebecca Rochon and Alfie Rosselli will be hosting and performing alongside comedians Mason Smith\, Arielle Isaac Norman\, Francisco Rincon\, and Jemischa Albo. We’ll also have delicious drinks available for purchase from Bar Divas.\n\n 
URL:https://www.eastonparkatx.com/event/eastcation-2023/
CATEGORIES:Public
ATTACH;FMTTYPE=image/png:https://www.eastonparkatx.com/wp-content/uploads/Eastcation-2023-4-e1678387739736.png
END:VEVENT
BEGIN:VEVENT
DTSTART;TZID=America/Chicago:20230317T150000
DTEND;TZID=America/Chicago:20230317T180000
DTSTAMP:20260422T032307
CREATED:20230213T181319Z
LAST-MODIFIED:20230213T181319Z
UID:8073-1679065200-1679076000@www.eastonparkatx.com
SUMMARY:Savory Farmers Market
DESCRIPTION:Don’t forget that Savory Farms will be returning every 3rd Friday of the month\, continuing with March 17! This month we will have entertainment from musician Barrett Simms. Come on out to snag some goodies and support your local vendors!
URL:https://www.eastonparkatx.com/event/savory-farmers-market-8/
CATEGORIES:Public
ATTACH;FMTTYPE=image/jpeg:https://www.eastonparkatx.com/wp-content/uploads/3-scaled.jpg
END:VEVENT
BEGIN:VEVENT
DTSTART;TZID=America/Chicago:20230303T180000
DTEND;TZID=America/Chicago:20230303T200000
DTSTAMP:20260422T032307
CREATED:20230223T203023Z
LAST-MODIFIED:20230223T203023Z
UID:8093-1677866400-1677873600@www.eastonparkatx.com
SUMMARY:First Friday Food Truck: Mix'T Caribbean Blends
DESCRIPTION:Come out March 3 for a heartfelt blend of Caribbean and Southern comfort foods from Mix’T Caribbean Blends! Their menu includes rasta pasta\, jerk chicken tacos\, shrimp delight\, and more! Check out their full menu here.
URL:https://www.eastonparkatx.com/event/first-friday-food-truck-mixt-caribbean-blends/
LOCATION:THE UNION\, 7604 Skytree Dr\, Austin\, TX 78744\, CA\, 78744\, United States
CATEGORIES:Public
ATTACH;FMTTYPE=image/jpeg:https://www.eastonparkatx.com/wp-content/uploads/324030427_892849145081168_2436616633334078387_n-e1677184163404.jpg
END:VEVENT
BEGIN:VEVENT
DTSTART;TZID=America/Chicago:20230217T150000
DTEND;TZID=America/Chicago:20230217T180000
DTSTAMP:20260422T032307
CREATED:20230213T180939Z
LAST-MODIFIED:20230213T181015Z
UID:8071-1676646000-1676656800@www.eastonparkatx.com
SUMMARY:Savory Farmers Market
DESCRIPTION:Don’t forget that Savory Farms will be returning every 3rd Friday of the month\, continuing with Feb. 17! Come on out to snag some goodies and support your local vendors.
URL:https://www.eastonparkatx.com/event/savory-farmers-market-7/
CATEGORIES:Public
ATTACH;FMTTYPE=image/jpeg:https://www.eastonparkatx.com/wp-content/uploads/3-scaled.jpg
END:VEVENT
BEGIN:VEVENT
DTSTART;TZID=America/Chicago:20230203T180000
DTEND;TZID=America/Chicago:20230203T200000
DTSTAMP:20260422T032307
CREATED:20230126T195132Z
LAST-MODIFIED:20230126T195503Z
UID:8059-1675447200-1675454400@www.eastonparkatx.com
SUMMARY:First Friday Food Truck - KnightFire BBQ
DESCRIPTION:KnightFire BBQ will be here Friday\, Feb. 3 at 6 pm! Their menu includes the Cowboy Burger\, brisket quesadillas\, pulled pork tacos\, queso dogs\, a beyond beef garden burger and so much more! You can view their menu and preorder here!
URL:https://www.eastonparkatx.com/event/first-friday-food-truck-2-3/
LOCATION:THE UNION\, 7604 Skytree Dr\, Austin\, TX 78744\, CA\, 78744\, United States
CATEGORIES:Public
ATTACH;FMTTYPE=image/png:https://www.eastonparkatx.com/wp-content/uploads/KF-BBQ-1.png
END:VEVENT
BEGIN:VEVENT
DTSTART;TZID=America/Chicago:20221216T150000
DTEND;TZID=America/Chicago:20221216T180000
DTSTAMP:20260422T032307
CREATED:20221122T213450Z
LAST-MODIFIED:20221122T213450Z
UID:7978-1671202800-1671213600@www.eastonparkatx.com
SUMMARY:Savory Farmers Market
DESCRIPTION:Thanks to all the tremendous Eastonite support for the Savory Farmer’s Market\, your Community Life team is thrilled to announce they will be returning on Dec. 16! Come on out and support local vendors!
URL:https://www.eastonparkatx.com/event/savory-farmers-market-6/
LOCATION:THE UNION\, 7604 Skytree Dr\, Austin\, TX 78744\, CA\, 78744\, United States
CATEGORIES:Public
ATTACH;FMTTYPE=image/jpeg:https://www.eastonparkatx.com/wp-content/uploads/IMG_5933-scaled.jpg
END:VEVENT
BEGIN:VEVENT
DTSTART;TZID=America/Chicago:20221203T160000
DTEND;TZID=America/Chicago:20221203T190000
DTSTAMP:20260422T032307
CREATED:20221201T191605Z
LAST-MODIFIED:20221201T191844Z
UID:7988-1670083200-1670094000@www.eastonparkatx.com
SUMMARY:Easton Made 2022
DESCRIPTION:Join us for Easton Park’s 3rd annual Easton Made. This holiday-themed event features crafting stations\, festive bites and bevvies\, and a vendor marketplace featuring some of Austin’s finest artists and makers. It’s a celebration of crafting and community you don’t want to miss! Click Here to RSVP!
URL:https://www.eastonparkatx.com/event/easton-made-2022/
LOCATION:Easton Park\, 7604 Skytree Dr\, Austin\, 78744\, United States
CATEGORIES:Public
ATTACH;FMTTYPE=image/webp:https://www.eastonparkatx.com/wp-content/uploads/EP-Easton-Made-Header.webp
END:VEVENT
BEGIN:VEVENT
DTSTART;TZID=America/Chicago:20221118T150000
DTEND;TZID=America/Chicago:20221118T190000
DTSTAMP:20260422T032307
CREATED:20221101T210111Z
LAST-MODIFIED:20221101T210111Z
UID:7957-1668783600-1668798000@www.eastonparkatx.com
SUMMARY:Savory Farmers Market
DESCRIPTION:Thanks to all the tremendous Eastonite support for the Savory Farmer’s Market\, your Community Life team is thrilled to announce they will be returning on Nov. 18! Come on out and support local vendors!
URL:https://www.eastonparkatx.com/event/savory-farmers-market-5/
LOCATION:THE UNION\, 7604 Skytree Dr\, Austin\, TX 78744\, CA\, 78744\, United States
CATEGORIES:Public
ATTACH;FMTTYPE=image/jpeg:https://www.eastonparkatx.com/wp-content/uploads/IMG_5933-scaled.jpg
END:VEVENT
BEGIN:VEVENT
DTSTART;TZID=America/Chicago:20221116T160000
DTEND;TZID=America/Chicago:20221116T180000
DTSTAMP:20260422T032307
CREATED:20221103T160624Z
LAST-MODIFIED:20221103T160624Z
UID:7959-1668614400-1668621600@www.eastonparkatx.com
SUMMARY:Sweet Treat Social
DESCRIPTION:Sweet news\, Eastonites! \nJoin your Community Life team at The Union on Wednesday\, Nov. 16 for some free fall-flavored donuts! Get to know the team and your fellow neighbors all while enjoying a pastry at the park! \nSee you there!
URL:https://www.eastonparkatx.com/event/sweet-treat-social-5/
LOCATION:THE UNION\, 7604 Skytree Dr\, Austin\, TX 78744\, CA\, 78744\, United States
CATEGORIES:Public
ATTACH;FMTTYPE=image/jpeg:https://www.eastonparkatx.com/wp-content/uploads/473bbace-ea3e-4ba1-b0b3-a2029c969d8e.jpg
END:VEVENT
BEGIN:VEVENT
DTSTART;TZID=America/Chicago:20221105T080000
DTEND;TZID=America/Chicago:20221105T120000
DTSTAMP:20260422T032307
CREATED:20221103T160214Z
LAST-MODIFIED:20221103T160302Z
UID:7958-1667635200-1667649600@www.eastonparkatx.com
SUMMARY:Easton Park Community Yard Sale
DESCRIPTION:Fall has arrived at Easton Park! You know what that means\, Eastonites –  It’s time for your Community Yard Sale! \nSupport your neighbors and snag some stuff for your home on Saturday\, Nov. 5! \nHead to eastonparkresidents.com for the yard sale map.
URL:https://www.eastonparkatx.com/event/easton-park-community-yard-sale-4/
CATEGORIES:Public
ATTACH;FMTTYPE=image/jpeg:https://www.eastonparkatx.com/wp-content/uploads/2021/09/IMG_6798-scaled-1.jpg
END:VEVENT
BEGIN:VEVENT
DTSTART;TZID=America/Chicago:20221029T180000
DTEND;TZID=America/Chicago:20221029T200000
DTSTAMP:20260422T032307
CREATED:20220930T200628Z
LAST-MODIFIED:20221011T170126Z
UID:7936-1667066400-1667073600@www.eastonparkatx.com
SUMMARY:Wicked Walk 2022
DESCRIPTION:Trick or treat yo’ self to the spook-tacular of the year – Wicked Walk is almost here! \nYou may have attended this Trail or Treat event in the past\, but this year it’s bigger and better than ever with a new trail route\, a cake walk\, an inflatable slide\, costume contests\, plenty of candy and much much more! \nMark your calendars for Sat. Oct. 29 from 6:00p – 8:00p.  Wicked Walk will be free and welcome to the public\, so be sure to invite your friends! \nCostume contest categories include: adult\, kids\, furry friends and family. Be sure to bring your most boo-tiful costume! \nThank you to our sponsors\, Urban Dirt\, Taylor Morrison\, Storybuilt\, Bluebonnet Electric\, Cherie Smith with JKB Realty\, Newmark Homes\, Perry Homes\, Paws on Chicon\, CertaPro\, Ernesto Hernandez with Keller Williams Realty\, The Vets\, and Brookfield Residential!tex
URL:https://www.eastonparkatx.com/event/wicked-walk-2022/
LOCATION:Great Lawn Pavilion\, 7604 Skytree Dr\, Austin\, TX 78744\, TX\, 78744\, United States
CATEGORIES:Public
ATTACH;FMTTYPE=image/png:https://www.eastonparkatx.com/wp-content/uploads/wicked-walk-social-banner.png
END:VEVENT
END:VCALENDAR